BEGIN:VCALENDAR
VERSION:2.0
PRODID:-//SFU - ECPv4.5.6//NONSGML v1.0//EN
CALSCALE:GREGORIAN
METHOD:PUBLISH
X-WR-CALNAME:SFU
X-ORIGINAL-URL:https://sfu-paris.fr
X-WR-CALDESC:Events for SFU
BEGIN:VEVENT
DTSTART;TZID=Europe/Paris:20200229T100000
DTEND;TZID=Europe/Paris:20201212T173000
DTSTAMP:20260420T202532
CREATED:20200308T131408Z
LAST-MODIFIED:20210427T134253Z
UID:1984459-1582970400-1607794200@sfu-paris.fr
SUMMARY:Eating Disorder Specialisation
DESCRIPTION:[vc_row][vc_column][vc_column_text]It is with great pleasure that SFU – PARIS opens its doors to the Eating Disorders Specialisation. \nThe project will focus on “Eating disorders clinic\, anorexia\, bulimia and obesity surgery” in cooperation with the Bichat-Claude Bernard Hospital. \n  \n\nUniversity responsible: Dr. Marina Kousouri\nMedical manager: Dr. Kostantin Arapis\n\n  \nDiscover the program. \n  \nInformation and registration: \ne-mail: info@sfu-paris.fr \nTel.: 01 53 75 00 12[/vc_column_text][/vc_column][/vc_row] \n
URL:https://sfu-paris.fr/en/evenement/du-eating-disorders-clinic/
LOCATION:14 rue Alfred Roll\, Paris\, 75017\, France
ATTACH;FMTTYPE=image/jpeg:https://sfu-paris.fr/wp-content/uploads/eating-disorder-2.jpg
END:VEVENT
END:VCALENDAR