BEGIN:VCALENDAR
VERSION:2.0
PRODID:-//SFU - ECPv4.5.6//NONSGML v1.0//EN
CALSCALE:GREGORIAN
METHOD:PUBLISH
X-WR-CALNAME:SFU
X-ORIGINAL-URL:https://sfu-paris.fr
X-WR-CALDESC:Events for SFU
BEGIN:VEVENT
DTSTART;TZID=Europe/Paris:20220316T173000
DTEND;TZID=Europe/Paris:20220316T203000
DTSTAMP:20260422T165258
CREATED:20220215T112119Z
LAST-MODIFIED:20220325T131347Z
UID:3780121-1647451800-1647462600@sfu-paris.fr
SUMMARY:Conférence et dédicace avec le Professeur Philippe Martin
DESCRIPTION:\nConférence et dédicace avec le Professeur Philippe Martin de l’Université Lumière Lyon 2\, nouveau partenaire de la SFU Paris.\n\n\n\nle mercredi 16 mars 2022\nà 17h30\n\n\n\ndans le locaux de la SFU – PARIS et par visioconférence (ZOOM)\n\n\n\n\n\n\n\nRencontres avec le diable – Anthologie d’un personnage obscur\nPhilippe Martin et Nicolas Diochon \n  \nREGARDER LA VIDEO DE LA CONFERENCE (ici) \n  \nRésumé \nDe l’an 1000 à l’an 2000\, voici un millénaire de mutations du diable\, de ses pompes et de ses œuvres. Chaque époque a eu son démoniaque et cette enquête sans précédent nous permet de plonger dans les régions les plus reculées de notre inconscient. Flippant. Fascinant. \nConnaissez-vous vraiment le diable\, savez-vous ce qu’il fait et quel est son visage ? Du xvie au xxe siècle\, nombreux en France et en Europe ont pris la plume pour lui donner corps : théologiens\, romanciers\, philosophes\, simples quidams accusés d’être des sorciers. Des plumes connues\, des témoins anonymes. En une anthologie sulfureuse\, voici que l’on dresse ici le portrait évolutif du Malin au cours des siècles. On explorera son parcours et ses interactions avec les hommes et la représentation qu’ils s’en font : avec qui\, de quelle manière les fait-il agir ? On montrera comment il est partout\, devenant le responsable des petits drames intimes\, mais aussi des grands évènements historiques que l’on juge funestes. Car le diable a été\, est\, et demeure le miroir des peurs et des angoisses de chaque époque.\nOn notera enfin que l’on peut tout aussi bien se moquer du démon pour conjurer sa peur et le lecteur découvrira l’arsenal des formules usitées pour le maintenir à distance.\nUn travail magistral\, accessible et passionnant sur la figure la plus effrayante de l’histoire religieuse et culturelle de l’Occident. Pour le coup\, un satané ouvrage à dévorer de manière endiablée ! \n\n\n\nREGARDER LA VIDEO DE LA CONFERENCE (ici)\n\n\n\nNous vous attendons nombreux!\n\n\n\nInscriptions : info@sfu-paris.fr\n\n
URL:https://sfu-paris.fr/evenement/conference-et-dedicace-avec-le-professeur-philippe-martin/
LOCATION:14 rue Alfred Roll\, Paris\, 75017\, France
ATTACH;FMTTYPE=image/jpeg:https://sfu-paris.fr/wp-content/uploads/Philippe-MARTIN-Rencontres-avec-le-diable.jpg
END:VEVENT
END:VCALENDAR