BEGIN:VCALENDAR
VERSION:2.0
PRODID:-//SFU - ECPv4.5.6//NONSGML v1.0//EN
CALSCALE:GREGORIAN
METHOD:PUBLISH
X-WR-CALNAME:SFU
X-ORIGINAL-URL:https://sfu-paris.fr
X-WR-CALDESC:Events for SFU
BEGIN:VEVENT
DTSTART;TZID=Europe/Paris:20170511T180000
DTEND;TZID=Europe/Paris:20170511T200000
DTSTAMP:20260423T184901
CREATED:20170426T094152Z
LAST-MODIFIED:20200306T093548Z
UID:99028-1494525600-1494532800@sfu-paris.fr
SUMMARY:Conférence : Les Addictions @DrNuss
DESCRIPTION:La SFU organisera le 11 mai prochain de 18h à 20h la conférence animée par le psychiatre\, le Dr. Philippe Nuss aura pour thème « Les addictions ». \nPrésentation de la conférence à venir \nPour vous inscrire\, contactez-nous dès maintenant au 01 53 75 00 12 ou à info@sfu-paris.fr. \n
URL:https://sfu-paris.fr/evenement/conference-les-addictions-drnuss/
LOCATION:14 rue Alfred Roll\, Paris\, 75017\, France Métropolitaine
CATEGORIES:Evénement
END:VEVENT
END:VCALENDAR