BEGIN:VCALENDAR
VERSION:2.0
PRODID:-//SFU - ECPv4.5.6//NONSGML v1.0//EN
CALSCALE:GREGORIAN
METHOD:PUBLISH
X-WR-CALNAME:SFU
X-ORIGINAL-URL:https://sfu-paris.fr
X-WR-CALDESC:Events for SFU
BEGIN:VEVENT
DTSTART;TZID=Europe/Paris:20170419T180000
DTEND;TZID=Europe/Paris:20170419T200000
DTSTAMP:20260423T204620
CREATED:20170404T140936Z
LAST-MODIFIED:20200306T093543Z
UID:68406-1492624800-1492632000@sfu-paris.fr
SUMMARY:Conférence : Projet Santé Plurielles @GroupeSOS
DESCRIPTION:Le mercredi 19 avril prochain\, de 18h à 20h\, la SFU-Paris vous propose d’assister à une conférence animée par des intervenants et la psychologue du Groupe SOS Solidarité\, au sujet du Projet Santé Plurielles. \nIntroduction : \n« Accompagner les jeunes femmes en centre d’hébergement d’urgence »\nSanté mentale et précarité \nLe centre d’hébergement Plurielles est spécialisé dans l’accueil et l’accompagnement des jeunes femmes de 18 à 25 ans en situation de précarité. Malgré la diversité des parcours de vie il existe un dénominateur commun : la violence. La plupart de nos bénéficiaires ont en effet connu des expériences traumatiques\, parmi  lesquelles on peut citer les mariages forcés\, les violences conjugales\, les violences familiales\, la prostitution\, la séquestration\, l’esclavage moderne\, l’exil… Leur arrivée au CHU Plurielles constitue ainsi une mise à l’abri\, un temps de reconstruction où repenser son projet de vie en étant accompagné par une équipe bienveillante. Malheureusement cela ne symbolise pas pour autant la fin des problèmes\, puisque plus de la moitié n’ont pas de papiers et 77% n’ont pas de ressources financières à leur entrée (RA 2015). Les travailleurs sociaux sont quotidiennement présents pour améliorer les situations en vue d’une insertion réussie et éviter à ces jeunes femmes pleines de qualités de s’introduire plus loin dans le cercle vicieux de la précarité. Toutefois\, en raison de ces situations anxiogènes et d’histoires difficiles\, les équipes observent quotidiennement les effets de comportements à risques variés\, et sont de plus en plus confrontées à des cas de troubles psychiatriques. Le CHU Plurielles a la chance de bénéficier de la présence mensuelle d’une psychologue\, et de travailler efficacement avec l’EMPP (Equipe Mobile Précarité et Psychiatrie) et le CMP (Centre médico-psychologique) de son secteur. En revanche\, ce type de partenariat efficace reste exceptionnel\, la majorité des CHU ne bénéficiant pas encore de l’appui psychologique nécessaire aux personnes hébergées\, alors que le lien entre précarité et santé mentale ne cesse d’être souligné. \nQuelles sont alors les spécificités de ce public jeune et féminin\, en termes de parcours\, de difficultés et de pratiques à risques ? Quelles en sont les répercussions psychologiques ?\nComment les prendre en compte pour assurer une bonne cohabitation sur un site collectif ? \nDes représentants de l’équipe du CHU Plurielles se déplacent pour répondre à ces questions avec des points de vue variés : accueillants\, travailleurs sociaux\, chef de service et psychologue. Nul doute que vos propres questions sauront enrichir le débat\, qui nourrira –nous l’espérons- votre intérêt pour les personnes en grande souffrance vivant dans la précarité. \n  \n  \nPour vous inscrire\, contactez-nous dès maintenant au 01 53 75 00 12 ou à info@sfu-paris.fr. \n
URL:https://sfu-paris.fr/evenement/conference-projet-sante-plurielles-groupesos/
LOCATION:14 rue Alfred Roll\, Paris\, 75017\, France Métropolitaine
CATEGORIES:Evénement
ATTACH;FMTTYPE=image/jpeg:https://sfu-paris.fr/wp-content/uploads/Precarite-9-femmes-sur-10-s-estiment-en-mauvaise-sante.jpg
END:VEVENT
END:VCALENDAR