BEGIN:VCALENDAR
VERSION:2.0
PRODID:-//SFU - ECPv4.5.6//NONSGML v1.0//EN
CALSCALE:GREGORIAN
METHOD:PUBLISH
X-WR-CALNAME:SFU
X-ORIGINAL-URL:https://sfu-paris.fr
X-WR-CALDESC:Events for SFU
BEGIN:VEVENT
DTSTART;VALUE=DATE:20191109
DTEND;VALUE=DATE:20191110
DTSTAMP:20260421T015545
CREATED:20190514T105405Z
LAST-MODIFIED:20210427T134232Z
UID:904429-1573257600-1573430399@sfu-paris.fr
SUMMARY:Grand Festival Une Autre Façon d'Aimer - 2019
DESCRIPTION:Une nouvelle occasion de partager nos idées avec des auteurs et conférenciers de renom\, sur le thème de la relation d’amour\, amour de soi\, amour de l’autre\, amour amoureux\, amour de la vie\, amour de la terre\, etc. \nDepuis 16 ans\, des milliers de participants viennent et reviennent des 4 coins de France\, de Belgique\, de Suisse et d’ailleurs pour profiter de cette expérience à nulle autre pareille\, Cette année encore\, les nombreuses conférences du festival seront une source inoubliable d’enrichissements\, de partages\, de rires et d’émotions. \n  \n \n\n  \nPour voir le programme détaillé\, cliquez ici. \nInscriptions et tarifs\, cliquez ici. \n  \n \n  \n\n
URL:https://sfu-paris.fr/evenement/grand-festival-une-autre-facon-daimer-2019/
ATTACH;FMTTYPE=image/png:https://sfu-paris.fr/wp-content/uploads/UFA-2019-Final.png
END:VEVENT
END:VCALENDAR