BEGIN:VCALENDAR
VERSION:2.0
PRODID:-//SFU - ECPv4.5.6//NONSGML v1.0//EN
CALSCALE:GREGORIAN
METHOD:PUBLISH
X-WR-CALNAME:SFU
X-ORIGINAL-URL:https://sfu-paris.fr
X-WR-CALDESC:Events for SFU
BEGIN:VEVENT
DTSTART;TZID=Europe/Paris:20210505T193000
DTEND;TZID=Europe/Paris:20210505T203000
DTSTAMP:20260422T191354
CREATED:20210421T142623Z
LAST-MODIFIED:20210427T134144Z
UID:3467374-1620243000-1620246600@sfu-paris.fr
SUMMARY:Portes Ouvertes SFU Paris
DESCRIPTION: \n  \nVous cherchez une formation universitaire en psychologie et souhaitez obtenir plus d’information sur la SFU-PARIS ?\nVous désirez en savoir plus sur les cours en présentiel et à distance de la SFU – PARIS ?\nInscrivez-vous à la nouvelle session des Portes Ouvertes en ligne !\n 05 mai 2021 – 19h30 (heure de Paris)\n contactez-nous par mail : info@sfu-paris.fr\n vision conférence par ZOOM (le lien sera envoyé la veille)\n 01 53 75 00 12\n
URL:https://sfu-paris.fr/evenement/portes-ouvertes-sfu-paris-2/
ATTACH;FMTTYPE=image/png:https://sfu-paris.fr/wp-content/uploads/Copie-de-Mai-2.png
END:VEVENT
END:VCALENDAR