BEGIN:VCALENDAR
VERSION:2.0
PRODID:-//SFU - ECPv4.5.6//NONSGML v1.0//EN
CALSCALE:GREGORIAN
METHOD:PUBLISH
X-WR-CALNAME:SFU
X-ORIGINAL-URL:https://sfu-paris.fr
X-WR-CALDESC:Events for SFU
BEGIN:VEVENT
DTSTART;TZID=Europe/Paris:20190402T180000
DTEND;TZID=Europe/Paris:20190402T200000
DTSTAMP:20260421T073448
CREATED:20190320T102544Z
LAST-MODIFIED:20200306T093439Z
UID:888782-1554228000-1554235200@sfu-paris.fr
SUMMARY:Soirée Portes Ouvertes
DESCRIPTION:Portes ouvertes SFU Paris : \nLa SFU Paris vous invite à découvrir ses programmes de formation le 02 avril au 14 rue Alfred Roll\, 75017 Paris de 18h à 20h. \nLa SFU-Paris : Etablissement Privé d’Enseignement Supérieur\, branche française de la SFU-Vienne (Autriche) propose aux étudiants l’obtention d’un diplôme Européen de Psychologie Clinique reconnu par l’Etat Autrichien\, et donc par tous les membres de la communauté européenne. \n\nL’événement est une occasion exceptionnelle de vivre « l’expérience SFU » et de rencontrer nos enseignants\, nos étudiants ainsi que nos directrices : Nicole Aknin et Nicole Attali. \n\n
URL:https://sfu-paris.fr/evenement/soiree-portes-ouvertes-5/
LOCATION:14 rue Alfred Roll\, Paris\, 75017\, France Métropolitaine
ATTACH;FMTTYPE=image/jpeg:https://sfu-paris.fr/wp-content/uploads/imgonline-com-ua-resize-fxqflEwdEWORkTp0.jpg
ORGANIZER;CN="SFU-Paris":MAILTO:info@sfu-paris.fr
END:VEVENT
END:VCALENDAR