BEGIN:VCALENDAR
VERSION:2.0
PRODID:-//SFU - ECPv4.5.6//NONSGML v1.0//EN
CALSCALE:GREGORIAN
METHOD:PUBLISH
X-WR-CALNAME:SFU
X-ORIGINAL-URL:https://sfu-paris.fr
X-WR-CALDESC:Events for SFU
BEGIN:VEVENT
DTSTART;TZID=Europe/Paris:20181002T100000
DTEND;TZID=Europe/Paris:20181002T130000
DTSTAMP:20260423T165408
CREATED:20180222T104933Z
LAST-MODIFIED:20200306T093451Z
UID:443131-1538474400-1538485200@sfu-paris.fr
SUMMARY:Réunion de pré-rentrée à la Sigmund Freud University de Paris
DESCRIPTION:La SIGMUND FREUD UNIVERSITY DE PARIS a le plaisir de vous convier à sa prochaine réunion de pré-rentrée qui se déroulera : \nLe mardi 02 octobre prochain aux horaires suivants: \n\n10 :00 – 13 :00\n\n\nLa SFU-PARIS\nEtablissement Privé d’Enseignement Supérieur\, branche française de la SFU-Vienne (Autriche) propose aux étudiants l’obtention d’un diplôme Européen de Psychologie clinique mention Psychothérapie (Psychanalyse\, Psychopathologie et Psychologie interculturelle) reconnu par l’Etat Autrichien\, et donc par tous les membres de la communauté européenne. \nContact\nPour plus d’informations\, contactez-nous dès maintenant:  info@sfu-paris.fr 01 53 75 00 12 \n
URL:https://sfu-paris.fr/evenement/soiree-portes-ouvertes-a-la-sigmund-freud-university-de-paris/
LOCATION:14 rue Alfred Roll\, Paris\, 75017\, France Métropolitaine
CATEGORIES:Evénement
ATTACH;FMTTYPE=image/jpeg:https://sfu-paris.fr/wp-content/uploads/couv_sfu.jpg
ORGANIZER;CN="SFU-Paris":MAILTO:info@sfu-paris.fr
END:VEVENT
END:VCALENDAR