BEGIN:VCALENDAR
VERSION:2.0
PRODID:-//SFU - ECPv4.5.6//NONSGML v1.0//EN
CALSCALE:GREGORIAN
METHOD:PUBLISH
X-WR-CALNAME:SFU
X-ORIGINAL-URL:https://sfu-paris.fr
X-WR-CALDESC:Events for SFU
BEGIN:VEVENT
DTSTART;TZID=Europe/Paris:20170307T180000
DTEND;TZID=Europe/Paris:20170307T200000
DTSTAMP:20260424T032902
CREATED:20170215T112048Z
LAST-MODIFIED:20200306T093550Z
UID:1523-1488909600-1488916800@sfu-paris.fr
SUMMARY:Soirée Portes Ouvertes
DESCRIPTION:Nous sommes heureux de vous inviter à notre prochaine soirée Portes Ouvertes qui aura lieu le Mardi 7 Mars 2017\, à partir de 18h. A cette occasion\, vous pourrez rencontrer notre équipe pédagogique ainsi que nos étudiants qui répondront à toutes vos questions. \nPour vous inscrire\, contactez-nous dès maintenant au 01 53 75 00 12 ou par mail à  l’adresse info@sfu-paris.fr \n// INFOS PRATIQUES // \nEntrée libre\n25\, rue Alphonse de Neuville\,\n75017\, Paris\nMétro 3 : Wagram / Pereire\nRER C : Levallois- Pereire \n
URL:https://sfu-paris.fr/evenement/soiree-portes-ouvertes/
CATEGORIES:Evénement
ATTACH;FMTTYPE=image/jpeg:https://sfu-paris.fr/wp-content/uploads/PARIS_PANORAMIQUE_-JPO-2.jpg
END:VEVENT
END:VCALENDAR